BEGIN:VCALENDAR
VERSION:2.0
CALSCALE:GREGORIAN
PRODID:-//Diputació de Barcelona//DibaCMS//EN
BEGIN:VEVENT
UID:2173
DTSTAMP:20260421T212719
DTSTART:20230204T120000
DTEND:20230204T173000
SUMMARY:Partits CCR
LOCATION:
METHOD:PUBLISH
X-WR-CALNAME:baga@baga.cat
X-WR-TIMEZONE:Europe/Madrid
DESCRIPTION:
URI:https://www.baga.cat/actualitat/agenda/partits-ccr.html
CLASS:PUBLIC
END:VEVENT
END:VCALENDAR
