BEGIN:VCALENDAR
VERSION:2.0
CALSCALE:GREGORIAN
PRODID:-//Diputació de Barcelona//DibaCMS//EN
BEGIN:VEVENT
UID:2171
DTSTAMP:20260421T201407
DTSTART:20230225T140000
DTEND:20230225T140000
SUMMARY:Festa del soci BAGÀ GRAN
LOCATION:Passeig de Gibellàs, 1 08695 Bagà
METHOD:PUBLISH
X-WR-CALNAME:baga@baga.cat
X-WR-TIMEZONE:Europe/Madrid
DESCRIPTION:
URI:https://www.baga.cat/actualitat/agenda/festa-del-soci-baga-gran.html
CLASS:PUBLIC
END:VEVENT
END:VCALENDAR
