BEGIN:VCALENDAR
VERSION:2.0
CALSCALE:GREGORIAN
PRODID:-//Diputació de Barcelona//DibaCMS//EN
BEGIN:VEVENT
UID:2165
DTSTAMP:20260421T185445
DTSTART:20230128T190000
DTEND:20230128T190000
SUMMARY:Presentació llibre
LOCATION:Plaça Raval, 5 08695 Bagà
METHOD:PUBLISH
X-WR-CALNAME:baga@baga.cat
X-WR-TIMEZONE:Europe/Madrid
DESCRIPTION:
URI:https://www.baga.cat/actualitat/agenda/2165-presentacio-llibre.html
CLASS:PUBLIC
END:VEVENT
END:VCALENDAR
