BEGIN:VCALENDAR
VERSION:2.0
CALSCALE:GREGORIAN
PRODID:-//Diputació de Barcelona//DibaCMS//EN
BEGIN:VEVENT
UID:2149
DTSTAMP:20260421T135025
DTSTART:20221218T090000
DTEND:20221218T090000
SUMMARY:Pujada del Pessebre a la Roca Tiraval
LOCATION:
METHOD:PUBLISH
X-WR-CALNAME:baga@baga.cat
X-WR-TIMEZONE:Europe/Madrid
DESCRIPTION:
URI:https://www.baga.cat/actualitat/agenda/2149-pujada-del-pessebre-a-la-roca-tiraval.html
CLASS:PUBLIC
END:VEVENT
END:VCALENDAR
