BEGIN:VCALENDAR
VERSION:2.0
CALSCALE:GREGORIAN
PRODID:-//Diputació de Barcelona//DibaCMS//EN
BEGIN:VEVENT
UID:2145
DTSTAMP:20260421T182935
DTSTART:20221203T100000
DTEND:20221208T130000
SUMMARY:Exposició de Pessebres
LOCATION:Palau dels Barons de Pinós. Pujada a Palau, 7  08695 Bagà 
METHOD:PUBLISH
X-WR-CALNAME:baga@baga.cat
X-WR-TIMEZONE:Europe/Madrid
DESCRIPTION:
URI:https://www.baga.cat/actualitat/agenda/exposicio-de-pessebres.html
CLASS:PUBLIC
END:VEVENT
END:VCALENDAR
