BEGIN:VCALENDAR
VERSION:2.0
CALSCALE:GREGORIAN
PRODID:-//Diputació de Barcelona//DibaCMS//EN
BEGIN:VEVENT
UID:2143
DTSTAMP:20260421T184957
DTSTART:20221211T120000
DTEND:20221211T120000
SUMMARY:Festa de l'Esbart
LOCATION:Plaça Catalunya 
METHOD:PUBLISH
X-WR-CALNAME:baga@baga.cat
X-WR-TIMEZONE:Europe/Madrid
DESCRIPTION:
URI:https://www.baga.cat/actualitat/agenda/2143-festa-de-lesbart.html
CLASS:PUBLIC
END:VEVENT
END:VCALENDAR
