BEGIN:VCALENDAR
VERSION:2.0
CALSCALE:GREGORIAN
PRODID:-//Diputació de Barcelona//DibaCMS//EN
BEGIN:VEVENT
UID:2142
DTSTAMP:20260421T184940
DTSTART:20221206T090000
DTEND:20221206T200000
SUMMARY:Torneig de PÀDEL i TENIS per La Marató de TV3
LOCATION:
METHOD:PUBLISH
X-WR-CALNAME:baga@baga.cat
X-WR-TIMEZONE:Europe/Madrid
DESCRIPTION:
URI:https://www.baga.cat/actualitat/agenda/torneig-de-padel-i-tenis-per-la-marato-de-tv3.html
CLASS:PUBLIC
END:VEVENT
END:VCALENDAR
