BEGIN:VCALENDAR
VERSION:2.0
CALSCALE:GREGORIAN
PRODID:-//Diputació de Barcelona//DibaCMS//EN
BEGIN:VEVENT
UID:2136
DTSTAMP:20260421T225322
DTSTART:20221113T080000
DTEND:20221113T080000
SUMMARY:Excursió al Cap de la Boixassa
LOCATION:
METHOD:PUBLISH
X-WR-CALNAME:baga@baga.cat
X-WR-TIMEZONE:Europe/Madrid
DESCRIPTION:
URI:https://www.baga.cat/actualitat/agenda/excursio-al-cap-de-la-boixassa.html
CLASS:PUBLIC
END:VEVENT
END:VCALENDAR
