BEGIN:VCALENDAR
VERSION:2.0
CALSCALE:GREGORIAN
PRODID:-//Diputació de Barcelona//DibaCMS//EN
BEGIN:VEVENT
UID:2135
DTSTAMP:20260422T002415
DTSTART:20221203T090000
DTEND:20221203T210000
SUMMARY:Torneig 12h Futbol Sala
LOCATION:Passeig de Gibellàs, 1 08695 Bagà
METHOD:PUBLISH
X-WR-CALNAME:baga@baga.cat
X-WR-TIMEZONE:Europe/Madrid
DESCRIPTION:
URI:https://www.baga.cat/actualitat/agenda/torneig-12h-futbol-sala.html
CLASS:PUBLIC
END:VEVENT
END:VCALENDAR
