BEGIN:VCALENDAR
VERSION:2.0
CALSCALE:GREGORIAN
PRODID:-//Diputació de Barcelona//DibaCMS//EN
BEGIN:VEVENT
UID:2132
DTSTAMP:20260421T184440
DTSTART:20221204T103000
DTEND:20221204T103000
SUMMARY:La gran festa del Tió
LOCATION:Plaça Tiraval 
METHOD:PUBLISH
X-WR-CALNAME:baga@baga.cat
X-WR-TIMEZONE:Europe/Madrid
DESCRIPTION:
URI:https://www.baga.cat/actualitat/agenda/la-gran-festa-del-tio.html
CLASS:PUBLIC
END:VEVENT
END:VCALENDAR
