BEGIN:VCALENDAR
VERSION:2.0
CALSCALE:GREGORIAN
PRODID:-//Diputació de Barcelona//DibaCMS//EN
BEGIN:VEVENT
UID:2130
DTSTAMP:20260421T212834
DTSTART:20221117T100000
DTEND:20221117T120000
SUMMARY:Salut, Aliments, Emocions i DIABETIS
LOCATION:c/ Historiador Pere Tomic, 1 08695 Bagà
METHOD:PUBLISH
X-WR-CALNAME:baga@baga.cat
X-WR-TIMEZONE:Europe/Madrid
DESCRIPTION:
URI:https://www.baga.cat/actualitat/agenda/salut-aliments-emocions-i-diabetis.html
CLASS:PUBLIC
END:VEVENT
END:VCALENDAR
