BEGIN:VCALENDAR
VERSION:2.0
CALSCALE:GREGORIAN
PRODID:-//Diputació de Barcelona//DibaCMS//EN
BEGIN:VEVENT
UID:2125
DTSTAMP:20260421T182901
DTSTART:20221025T103000
DTEND:20221212T103000
SUMMARY:ELS GRANS ENCANTS del Berguedà
LOCATION:c/ Historiador Pere Tomic, 1 08695 Bagà
METHOD:PUBLISH
X-WR-CALNAME:baga@baga.cat
X-WR-TIMEZONE:Europe/Madrid
DESCRIPTION:
URI:https://www.baga.cat/actualitat/agenda/els-grans-encants-del-bergueda.html
CLASS:PUBLIC
END:VEVENT
END:VCALENDAR
