BEGIN:VCALENDAR
VERSION:2.0
CALSCALE:GREGORIAN
PRODID:-//Diputació de Barcelona//DibaCMS//EN
BEGIN:VEVENT
UID:2121
DTSTAMP:20260421T195051
DTSTART:20221109T160000
DTEND:20221109T160000
SUMMARY:Taller creativitat
LOCATION:c/ Historiador Pere Tomic, 1 08695 Bagà
METHOD:PUBLISH
X-WR-CALNAME:baga@baga.cat
X-WR-TIMEZONE:Europe/Madrid
DESCRIPTION:
URI:https://www.baga.cat/actualitat/agenda/taller-creativitat.html
CLASS:PUBLIC
END:VEVENT
END:VCALENDAR
