BEGIN:VCALENDAR
VERSION:2.0
CALSCALE:GREGORIAN
PRODID:-//Diputació de Barcelona//DibaCMS//EN
BEGIN:VEVENT
UID:2113
DTSTAMP:20260422T134217
DTSTART:20221015T120000
DTEND:20221015T120000
SUMMARY:Inauguració zona dol perinatal
LOCATION:Passeig Gibellàs, 16 08695 Bagà
METHOD:PUBLISH
X-WR-CALNAME:baga@baga.cat
X-WR-TIMEZONE:Europe/Madrid
DESCRIPTION:
URI:https://www.baga.cat/actualitat/agenda/inauguracio-zona-dol-perinatal.html
CLASS:PUBLIC
END:VEVENT
END:VCALENDAR
