BEGIN:VCALENDAR
VERSION:2.0
CALSCALE:GREGORIAN
PRODID:-//Diputació de Barcelona//DibaCMS//EN
BEGIN:VEVENT
UID:2111
DTSTAMP:20260421T185456
DTSTART:20220927T000000
DTEND:20221121T000000
SUMMARY:XVIII Concurs de Fotografia de la Fia-faia 2022
LOCATION:
METHOD:PUBLISH
X-WR-CALNAME:baga@baga.cat
X-WR-TIMEZONE:Europe/Madrid
DESCRIPTION:
URI:https://www.baga.cat/actualitat/agenda/xviii-concurs-de-fotografia-de-la-fia-faia-2022.html
CLASS:PUBLIC
END:VEVENT
END:VCALENDAR
