BEGIN:VCALENDAR
VERSION:2.0
CALSCALE:GREGORIAN
PRODID:-//Diputació de Barcelona//DibaCMS//EN
BEGIN:VEVENT
UID:2108
DTSTAMP:20260422T072150
DTSTART:20221006T100000
DTEND:20221006T100000
SUMMARY:Curs d'Anglès per a Gent Gran
LOCATION:c/ Mossèn Jaume, 27 local 2 08695 Bagà
METHOD:PUBLISH
X-WR-CALNAME:baga@baga.cat
X-WR-TIMEZONE:Europe/Madrid
DESCRIPTION:
URI:https://www.baga.cat/actualitat/agenda/2108-curs-dangles-per-a-gent-gran.html
CLASS:PUBLIC
END:VEVENT
END:VCALENDAR
