BEGIN:VCALENDAR
VERSION:2.0
CALSCALE:GREGORIAN
PRODID:-//Diputació de Barcelona//DibaCMS//EN
BEGIN:VEVENT
UID:2104
DTSTAMP:20260421T232550
DTSTART:20221008T200000
DTEND:20221008T200000
SUMMARY:20 anys Cho-Oyu
LOCATION:C. de la Vinya, 1 08695 Bagà
METHOD:PUBLISH
X-WR-CALNAME:baga@baga.cat
X-WR-TIMEZONE:Europe/Madrid
DESCRIPTION:
URI:https://www.baga.cat/actualitat/agenda/20-anys-cho-oyu.html
CLASS:PUBLIC
END:VEVENT
END:VCALENDAR
