BEGIN:VCALENDAR
VERSION:2.0
CALSCALE:GREGORIAN
PRODID:-//Diputació de Barcelona//DibaCMS//EN
BEGIN:VEVENT
UID:2101
DTSTAMP:20260422T022007
DTSTART:20220911T110000
DTEND:20220911T110000
SUMMARY:Aplec Santuari de Paller
LOCATION:Carretera del Paller, km 2 08695 Bagà
METHOD:PUBLISH
X-WR-CALNAME:baga@baga.cat
X-WR-TIMEZONE:Europe/Madrid
DESCRIPTION:
URI:https://www.baga.cat/actualitat/agenda/aplec-santuari-de-paller.html
CLASS:PUBLIC
END:VEVENT
END:VCALENDAR
