BEGIN:VCALENDAR
VERSION:2.0
CALSCALE:GREGORIAN
PRODID:-//Diputació de Barcelona//DibaCMS//EN
BEGIN:VEVENT
UID:2100
DTSTAMP:20260422T010142
DTSTART:20220911T080000
DTEND:20220911T080000
SUMMARY:Pujada senyera ROCA TIRAVAL
LOCATION:
METHOD:PUBLISH
X-WR-CALNAME:baga@baga.cat
X-WR-TIMEZONE:Europe/Madrid
DESCRIPTION:
URI:https://www.baga.cat/actualitat/agenda/pujada-senyera-roca-tiraval.html
CLASS:PUBLIC
END:VEVENT
END:VCALENDAR
