BEGIN:VCALENDAR
VERSION:2.0
CALSCALE:GREGORIAN
PRODID:-//Diputació de Barcelona//DibaCMS//EN
BEGIN:VEVENT
UID:2092
DTSTAMP:20260421T231448
DTSTART:20220803T180000
DTEND:20220803T180000
SUMMARY:Les magdalenes no es tiren!
LOCATION:Plaça Galceran de Pinós 08695 Bagà
METHOD:PUBLISH
X-WR-CALNAME:baga@baga.cat
X-WR-TIMEZONE:Europe/Madrid
DESCRIPTION:
URI:https://www.baga.cat/actualitat/agenda/les-magdalenes-no-es-tiren.html
CLASS:PUBLIC
END:VEVENT
END:VCALENDAR
