BEGIN:VCALENDAR
VERSION:2.0
CALSCALE:GREGORIAN
PRODID:-//Diputació de Barcelona//DibaCMS//EN
BEGIN:VEVENT
UID:2090
DTSTAMP:20260422T021931
DTSTART:20220810T090000
DTEND:20220810T090000
SUMMARY:Mercat Gourmand
LOCATION:Plaça Catalunya 
METHOD:PUBLISH
X-WR-CALNAME:baga@baga.cat
X-WR-TIMEZONE:Europe/Madrid
DESCRIPTION:
URI:https://www.baga.cat/actualitat/agenda/mercat-gourmand.html
CLASS:PUBLIC
END:VEVENT
END:VCALENDAR
