BEGIN:VCALENDAR
VERSION:2.0
CALSCALE:GREGORIAN
PRODID:-//Diputació de Barcelona//DibaCMS//EN
BEGIN:VEVENT
UID:2089
DTSTAMP:20260421T212800
DTSTART:20221020T000000
DTEND:20221020T000000
SUMMARY:El Mago Pop a Barcelona
LOCATION:
METHOD:PUBLISH
X-WR-CALNAME:baga@baga.cat
X-WR-TIMEZONE:Europe/Madrid
DESCRIPTION:
URI:https://www.baga.cat/actualitat/agenda/el-mago-pop-a-barcelona.html
CLASS:PUBLIC
END:VEVENT
END:VCALENDAR
