BEGIN:VCALENDAR
VERSION:2.0
CALSCALE:GREGORIAN
PRODID:-//Diputació de Barcelona//DibaCMS//EN
BEGIN:VEVENT
UID:2088
DTSTAMP:20260422T003241
DTSTART:20220812T170000
DTEND:20220812T210000
SUMMARY:Vine a donar sang
LOCATION:c/ Historiador Pere Tomic, 1 08695 Bagà
METHOD:PUBLISH
X-WR-CALNAME:baga@baga.cat
X-WR-TIMEZONE:Europe/Madrid
DESCRIPTION:
URI:https://www.baga.cat/actualitat/agenda/vine-a-donar-sang.html
CLASS:PUBLIC
END:VEVENT
END:VCALENDAR
