BEGIN:VCALENDAR
VERSION:2.0
CALSCALE:GREGORIAN
PRODID:-//Diputació de Barcelona//DibaCMS//EN
BEGIN:VEVENT
UID:2086
DTSTAMP:20260422T071403
DTSTART:20220729T220000
DTEND:20220729T220000
SUMMARY:Bagà Rock Fest 2022
LOCATION:Passeig de Gibellàs, 1 08695 Bagà
METHOD:PUBLISH
X-WR-CALNAME:baga@baga.cat
X-WR-TIMEZONE:Europe/Madrid
DESCRIPTION:
URI:https://www.baga.cat/actualitat/agenda/baga-rock-fest-2022.html
CLASS:PUBLIC
END:VEVENT
END:VCALENDAR
