BEGIN:VCALENDAR
VERSION:2.0
CALSCALE:GREGORIAN
PRODID:-//Diputació de Barcelona//DibaCMS//EN
BEGIN:VEVENT
UID:2085
DTSTAMP:20260421T225635
DTSTART:20220728T190000
DTEND:20220803T220000
SUMMARY:Festa Major de Bagà 2022
LOCATION:
METHOD:PUBLISH
X-WR-CALNAME:baga@baga.cat
X-WR-TIMEZONE:Europe/Madrid
DESCRIPTION:
URI:https://www.baga.cat/actualitat/agenda/festa-major-de-baga-2022.html
CLASS:PUBLIC
END:VEVENT
END:VCALENDAR
