BEGIN:VCALENDAR
VERSION:2.0
CALSCALE:GREGORIAN
PRODID:-//Diputació de Barcelona//DibaCMS//EN
BEGIN:VEVENT
UID:2079
DTSTAMP:20260421T225707
DTSTART:20220713T170000
DTEND:20220817T190000
SUMMARY:Estiu 12disset Bagà
LOCATION:
METHOD:PUBLISH
X-WR-CALNAME:baga@baga.cat
X-WR-TIMEZONE:Europe/Madrid
DESCRIPTION:
URI:https://www.baga.cat/actualitat/agenda/estiu-12disset-baga.html
CLASS:PUBLIC
END:VEVENT
END:VCALENDAR
