BEGIN:VCALENDAR
VERSION:2.0
CALSCALE:GREGORIAN
PRODID:-//Diputació de Barcelona//DibaCMS//EN
BEGIN:VEVENT
UID:2076
DTSTAMP:20260422T024025
DTSTART:20220709T000000
DTEND:20220709T000000
SUMMARY:Mulla't per l'Esclerosi Múltiple
LOCATION:Passeig Bastareny, s/n 08695 Bagà
METHOD:PUBLISH
X-WR-CALNAME:baga@baga.cat
X-WR-TIMEZONE:Europe/Madrid
DESCRIPTION:
URI:https://www.baga.cat/actualitat/agenda/mullat-per-lesclerosi-multiple.html
CLASS:PUBLIC
END:VEVENT
END:VCALENDAR
