BEGIN:VCALENDAR
VERSION:2.0
CALSCALE:GREGORIAN
PRODID:-//Diputació de Barcelona//DibaCMS//EN
BEGIN:VEVENT
UID:2075
DTSTAMP:20260421T152958
DTSTART:20220724T073000
DTEND:20220724T073000
SUMMARY:Excursió a Ensija
LOCATION:
METHOD:PUBLISH
X-WR-CALNAME:baga@baga.cat
X-WR-TIMEZONE:Europe/Madrid
DESCRIPTION:
URI:https://www.baga.cat/actualitat/agenda/excursio-a-ensija.html
CLASS:PUBLIC
END:VEVENT
END:VCALENDAR
