BEGIN:VCALENDAR
VERSION:2.0
CALSCALE:GREGORIAN
PRODID:-//Diputació de Barcelona//DibaCMS//EN
BEGIN:VEVENT
UID:2068
DTSTAMP:20260422T002729
DTSTART:20220704T000000
DTEND:20220728T000000
SUMMARY:Cursets de natació
LOCATION:
METHOD:PUBLISH
X-WR-CALNAME:baga@baga.cat
X-WR-TIMEZONE:Europe/Madrid
DESCRIPTION:
URI:https://www.baga.cat/actualitat/agenda/cursets-de-natacio.html
CLASS:PUBLIC
END:VEVENT
END:VCALENDAR
