BEGIN:VCALENDAR
VERSION:2.0
CALSCALE:GREGORIAN
PRODID:-//Diputació de Barcelona//DibaCMS//EN
BEGIN:VEVENT
UID:2067
DTSTAMP:20260421T215258
DTSTART:20220703T083000
DTEND:20220703T083000
SUMMARY:XXXII Cursa d'Estiu - I Trail d'Estiu
LOCATION:Plaça Catalunya 
METHOD:PUBLISH
X-WR-CALNAME:baga@baga.cat
X-WR-TIMEZONE:Europe/Madrid
DESCRIPTION:
URI:https://www.baga.cat/actualitat/agenda/xxxii-cursa-destiu-i-trail-destiu.html
CLASS:PUBLIC
END:VEVENT
END:VCALENDAR
