BEGIN:VCALENDAR
VERSION:2.0
CALSCALE:GREGORIAN
PRODID:-//Diputació de Barcelona//DibaCMS//EN
BEGIN:VEVENT
UID:2056
DTSTAMP:20260422T002221
DTSTART:20220213T100000
DTEND:20220213T100000
SUMMARY:Festa de l'Arròs 2022
LOCATION:Diversos indrets 
METHOD:PUBLISH
X-WR-CALNAME:baga@baga.cat
X-WR-TIMEZONE:Europe/Madrid
DESCRIPTION:
URI:https://www.baga.cat/actualitat/agenda/festa-de-larros-2022.html
CLASS:PUBLIC
END:VEVENT
END:VCALENDAR
