BEGIN:VCALENDAR
VERSION:2.0
CALSCALE:GREGORIAN
PRODID:-//Diputació de Barcelona//DibaCMS//EN
BEGIN:VEVENT
UID:2055
DTSTAMP:20260422T022709
DTSTART:20220123T000000
DTEND:20220123T000000
SUMMARY:Excursió a Brocà- UEC Bagà
LOCATION:
METHOD:PUBLISH
X-WR-CALNAME:baga@baga.cat
X-WR-TIMEZONE:Europe/Madrid
DESCRIPTION:
URI:https://www.baga.cat/actualitat/agenda/excursio-a-broca-uec-baga.html
CLASS:PUBLIC
END:VEVENT
END:VCALENDAR
