BEGIN:VCALENDAR
VERSION:2.0
CALSCALE:GREGORIAN
PRODID:-//Diputació de Barcelona//DibaCMS//EN
BEGIN:VEVENT
UID:2034
DTSTAMP:20260421T150039
DTSTART:20211218T100000
DTEND:20211218T130000
SUMMARY:Caminada per a la Marató
LOCATION:
METHOD:PUBLISH
X-WR-CALNAME:baga@baga.cat
X-WR-TIMEZONE:Europe/Madrid
DESCRIPTION:Diumenge, 18 de desembre

A les 10h, a la Plaça Catalunya

Els diners recaptats estaran destinats a la Marató

URI:https://www.baga.cat/actualitat/agenda/caminada-per-a-la-marato.html
CLASS:PUBLIC
END:VEVENT
END:VCALENDAR
