BEGIN:VCALENDAR
VERSION:2.0
CALSCALE:GREGORIAN
PRODID:-//Diputació de Barcelona//DibaCMS//EN
BEGIN:VEVENT
UID:2032
DTSTAMP:20260422T041104
DTSTART:20211226T190000
DTEND:20211226T200000
SUMMARY:Els Pastorets
LOCATION:
METHOD:PUBLISH
X-WR-CALNAME:baga@baga.cat
X-WR-TIMEZONE:Europe/Madrid
DESCRIPTION:Representació dels Pastorets al casc antic.

Es faran grups de 25 persones per visualitzar la representació. Cal apuntar-se a l'Ajuntament.

URI:https://www.baga.cat/actualitat/agenda/els-pastorets.html
CLASS:PUBLIC
END:VEVENT
END:VCALENDAR
