BEGIN:VCALENDAR
VERSION:2.0
CALSCALE:GREGORIAN
PRODID:-//Diputació de Barcelona//DibaCMS//EN
BEGIN:VEVENT
UID:2031
DTSTAMP:20260422T054343
DTSTART:20211224T190000
DTEND:20211224T220000
SUMMARY:Fia-Faia
LOCATION:
METHOD:PUBLISH
X-WR-CALNAME:baga@baga.cat
X-WR-TIMEZONE:Europe/Madrid
DESCRIPTION:Programa d'actes

URI:https://www.baga.cat/actualitat/agenda/2031-fia-faia.html
CLASS:PUBLIC
END:VEVENT
END:VCALENDAR
