BEGIN:VCALENDAR
VERSION:2.0
CALSCALE:GREGORIAN
PRODID:-//Diputació de Barcelona//DibaCMS//EN
BEGIN:VEVENT
UID:2030
DTSTAMP:20260422T004332
DTSTART:20211218T223000
DTEND:20211219T000000
SUMMARY:QUINA 2021
LOCATION:
METHOD:PUBLISH
X-WR-CALNAME:baga@baga.cat
X-WR-TIMEZONE:Europe/Madrid
DESCRIPTION: 

 

URI:https://www.baga.cat/actualitat/agenda/quina-2021.html
CLASS:PUBLIC
END:VEVENT
END:VCALENDAR
