BEGIN:VCALENDAR
VERSION:2.0
CALSCALE:GREGORIAN
PRODID:-//Diputació de Barcelona//DibaCMS//EN
BEGIN:VEVENT
UID:2027
DTSTAMP:20260422T022751
DTSTART:20211218T183000
DTEND:20211218T203000
SUMMARY:Presentació del llibre "Els Pinós-Fenollet als segles XIV-XV"
LOCATION:
METHOD:PUBLISH
X-WR-CALNAME:baga@baga.cat
X-WR-TIMEZONE:Europe/Madrid
DESCRIPTION:Al Parc Natural Cadí-Moixeró

URI:https://www.baga.cat/actualitat/agenda/presentacio-del-llibre-els-pinos-fenollet-als-segles-xiv-xv.html
CLASS:PUBLIC
END:VEVENT
END:VCALENDAR
