BEGIN:VCALENDAR
VERSION:2.0
CALSCALE:GREGORIAN
PRODID:-//Diputació de Barcelona//DibaCMS//EN
BEGIN:VEVENT
UID:2026
DTSTAMP:20260422T022125
DTSTART:20211219T083000
DTEND:20211219T083000
SUMMARY:Pujada del pessebre a la Roca Tiraval
LOCATION:
METHOD:PUBLISH
X-WR-CALNAME:baga@baga.cat
X-WR-TIMEZONE:Europe/Madrid
DESCRIPTION:Excursió-passejada des del coll de Turbians.

Sortida des de la Plaça de l'Ajuntament, a les 8.30h

URI:https://www.baga.cat/actualitat/agenda/pujada-del-pessebre-a-la-roca-tiraval.html
CLASS:PUBLIC
END:VEVENT
END:VCALENDAR
