BEGIN:VCALENDAR
VERSION:2.0
CALSCALE:GREGORIAN
PRODID:-//Diputació de Barcelona//DibaCMS//EN
BEGIN:VEVENT
UID:2025
DTSTAMP:20260422T022517
DTSTART:20211220T203000
DTEND:20211220T223000
SUMMARY:Projecció audiovisual Spantik
LOCATION:
METHOD:PUBLISH
X-WR-CALNAME:baga@baga.cat
X-WR-TIMEZONE:Europe/Madrid
DESCRIPTION:Projecció audiovisual de l'expedició al Baltistan.

20 de desembre, a les oficines del Parc, a les 20.30h.

URI:https://www.baga.cat/actualitat/agenda/projeccio-audiovisual-spantik.html
CLASS:PUBLIC
END:VEVENT
END:VCALENDAR
