BEGIN:VCALENDAR
VERSION:2.0
CALSCALE:GREGORIAN
PRODID:-//Diputació de Barcelona//DibaCMS//EN
BEGIN:VEVENT
UID:2020
DTSTAMP:20260422T004257
DTSTART:20211219T203000
DTEND:20211219T203000
SUMMARY:Espectacle teatral "Elles"
LOCATION:
METHOD:PUBLISH
X-WR-CALNAME:baga@baga.cat
X-WR-TIMEZONE:Europe/Madrid
DESCRIPTION:Degut a la nova situació sanitària, l'espectacle teatral "Elles" s'ha ajornat al pròxim 19 de desembre.

URI:https://www.baga.cat/actualitat/agenda/2020-espectacle-teatral-elles.html
CLASS:PUBLIC
END:VEVENT
END:VCALENDAR
