BEGIN:VCALENDAR
VERSION:2.0
CALSCALE:GREGORIAN
PRODID:-//Diputació de Barcelona//DibaCMS//EN
BEGIN:VEVENT
UID:2013
DTSTAMP:20260422T021716
DTSTART:20211201T153000
DTEND:20211201T153000
SUMMARY:Xerrada col·loqui de l'escriptor Pep Coll
LOCATION:Avinguda Salarich, 29 08695 Bagà
METHOD:PUBLISH
X-WR-CALNAME:baga@baga.cat
X-WR-TIMEZONE:Europe/Madrid
DESCRIPTION:
URI:https://www.baga.cat/actualitat/agenda/xerrada-colloqui-de-lescriptor-pep-coll.html
CLASS:PUBLIC
END:VEVENT
END:VCALENDAR
