BEGIN:VCALENDAR
VERSION:2.0
CALSCALE:GREGORIAN
PRODID:-//Diputació de Barcelona//DibaCMS//EN
BEGIN:VEVENT
UID:2010
DTSTAMP:20260422T041026
DTSTART:20211127T130000
DTEND:20211128T155000
SUMMARY:Partits de futbol CCR Baganès
LOCATION:C. Pintor de Soto, s/n 08695 Bagà
METHOD:PUBLISH
X-WR-CALNAME:baga@baga.cat
X-WR-TIMEZONE:Europe/Madrid
DESCRIPTION:
URI:https://www.baga.cat/actualitat/agenda/partits-de-futbol-ccr-baganes.html
CLASS:PUBLIC
END:VEVENT
END:VCALENDAR
