BEGIN:VCALENDAR
VERSION:2.0
CALSCALE:GREGORIAN
PRODID:-//Diputació de Barcelona//DibaCMS//EN
BEGIN:VEVENT
UID:2009
DTSTAMP:20260422T040716
DTSTART:20211117T000000
DTEND:20211129T000000
SUMMARY:Dia per a l'eliminació de la violència de gènere contra les dones
LOCATION:
METHOD:PUBLISH
X-WR-CALNAME:baga@baga.cat
X-WR-TIMEZONE:Europe/Madrid
DESCRIPTION:
URI:https://www.baga.cat/actualitat/agenda/dia-per-a-leliminacio-de-la-violencia-de-genere-contra-les-dones.html
CLASS:PUBLIC
END:VEVENT
END:VCALENDAR
