BEGIN:VCALENDAR
VERSION:2.0
CALSCALE:GREGORIAN
PRODID:-//Diputació de Barcelona//DibaCMS//EN
BEGIN:VEVENT
UID:2008
DTSTAMP:20260421T231350
DTSTART:20211231T170000
DTEND:20211231T200000
SUMMARY:I Cursa de Sant Silvestre
LOCATION:
METHOD:PUBLISH
X-WR-CALNAME:baga@baga.cat
X-WR-TIMEZONE:Europe/Madrid
DESCRIPTION:Inscripció a través de la pàgina web Amics de l'Atletisme de Bagà

URI:https://www.baga.cat/actualitat/agenda/i-cursa-de-sant-silvestre.html
CLASS:PUBLIC
END:VEVENT
END:VCALENDAR
