BEGIN:VCALENDAR
VERSION:2.0
CALSCALE:GREGORIAN
PRODID:-//Diputació de Barcelona//DibaCMS//EN
BEGIN:VEVENT
UID:2007
DTSTAMP:20260422T021136
DTSTART:20211204T090000
DTEND:20211204T210000
SUMMARY:Torneig de futbol sala 12 hores
LOCATION:Passeig de Gibellàs, 1 08695 Bagà
METHOD:PUBLISH
X-WR-CALNAME:baga@baga.cat
X-WR-TIMEZONE:Europe/Madrid
DESCRIPTION:
URI:https://www.baga.cat/actualitat/agenda/torneig-de-futbol-sala-12-hores.html
CLASS:PUBLIC
END:VEVENT
END:VCALENDAR
