BEGIN:VCALENDAR
VERSION:2.0
CALSCALE:GREGORIAN
PRODID:-//Diputació de Barcelona//DibaCMS//EN
BEGIN:VEVENT
UID:2006
DTSTAMP:20260422T022201
DTSTART:20211218T170000
DTEND:20211218T200000
SUMMARY:Torronada
LOCATION:
METHOD:PUBLISH
X-WR-CALNAME:baga@baga.cat
X-WR-TIMEZONE:Europe/Madrid
DESCRIPTION:
	Berenar d'entrepà, torrons i cava.
	Ball amb Dolfi


Tiquets al Club:


	Socis 5€
	No socis 7€


Organitza: Associació Bagà Gran

URI:https://www.baga.cat/actualitat/agenda/torronada.html
CLASS:PUBLIC
END:VEVENT
END:VCALENDAR
