BEGIN:VCALENDAR
VERSION:2.0
CALSCALE:GREGORIAN
PRODID:-//Diputació de Barcelona//DibaCMS//EN
BEGIN:VEVENT
UID:2005
DTSTAMP:20260422T035211
DTSTART:20211217T000000
DTEND:20211219T000000
SUMMARY:Els millors Pre-Nadals
LOCATION:
METHOD:PUBLISH
X-WR-CALNAME:baga@baga.cat
X-WR-TIMEZONE:Europe/Madrid
DESCRIPTION:Viatge de 3 dies a Lloret de Mar


	Dies 17, 18 i 19 de desembre.
	Cal apuntar-se al Club Bagà.


Organitza: Associació Bagà Gran

URI:https://www.baga.cat/actualitat/agenda/els-millors-pre-nadals.html
CLASS:PUBLIC
END:VEVENT
END:VCALENDAR
