BEGIN:VCALENDAR
VERSION:2.0
CALSCALE:GREGORIAN
PRODID:-//Diputació de Barcelona//DibaCMS//EN
BEGIN:VEVENT
UID:2004
DTSTAMP:20260422T010207
DTSTART:20211128T083000
DTEND:20211128T140000
SUMMARY:Excursió a la Voltera (Gisclareny)
LOCATION:
METHOD:PUBLISH
X-WR-CALNAME:baga@baga.cat
X-WR-TIMEZONE:Europe/Madrid
DESCRIPTION:
URI:https://www.baga.cat/actualitat/agenda/excursio-a-la-voltera-gisclareny.html
CLASS:PUBLIC
END:VEVENT
END:VCALENDAR
