BEGIN:VCALENDAR
VERSION:2.0
CALSCALE:GREGORIAN
PRODID:-//Diputació de Barcelona//DibaCMS//EN
BEGIN:VEVENT
UID:2003
DTSTAMP:20260422T003618
DTSTART:20211129T101500
DTEND:20211129T111500
SUMMARY:Gimnàstica dolça
LOCATION:c/ Historiador Pere Tomic, 1 08695 Bagà
METHOD:PUBLISH
X-WR-CALNAME:baga@baga.cat
X-WR-TIMEZONE:Europe/Madrid
DESCRIPTION:
URI:https://www.baga.cat/actualitat/agenda/gimnastica-dolca.html
CLASS:PUBLIC
END:VEVENT
END:VCALENDAR
