BEGIN:VCALENDAR
VERSION:2.0
CALSCALE:GREGORIAN
PRODID:-//Diputació de Barcelona//DibaCMS//EN
BEGIN:VEVENT
UID:2002
DTSTAMP:20260422T021700
DTSTART:20211124T160000
DTEND:20211124T160000
SUMMARY:Taller d'olis essencials
LOCATION:
METHOD:PUBLISH
X-WR-CALNAME:baga@baga.cat
X-WR-TIMEZONE:Europe/Madrid
DESCRIPTION:Taller d'olis essencials pel benestar emocional.

Cal apuntar-se a l'Ajuntament. Places limitades.

URI:https://www.baga.cat/actualitat/agenda/taller-dolis-essencials.html
CLASS:PUBLIC
END:VEVENT
END:VCALENDAR
